BEGIN:VCALENDAR
PRODID:Appointment
CALSCALE:GREGORIAN
VERSION:2.0
BEGIN:VEVENT
DTSTAMP:20260421T125230Z
DTSTART:20250402T163000
DTEND:20250402T183000
SUMMARY:OJA
UID:44eeff17-db66-4918-ad39-13899c88fab0
DESCRIPTION:Ortsjugendausschuss-Sitzung (OJA) zusammen mit dem Ortsjugend
 ausschuss Hagen
LOCATION:IG Metall Unna\, Bahnhofstr. 74-78\, 59423 Unna
END:VEVENT
END:VCALENDAR
