BEGIN:VCALENDAR
PRODID:Appointment
CALSCALE:GREGORIAN
VERSION:2.0
BEGIN:VEVENT
DTSTAMP:20260421T125230Z
DTSTART;VALUE=DATE:20250703
DTEND;VALUE=DATE:20250707
SUMMARY:R!SE Festival 
UID:73b90210-56e2-4a38-a614-ac2be063a46c
DESCRIPTION:Endlich ist es wieder soweit!
LOCATION:ELBAUENPARK MAGDEBURG\, Musterstr. 1\, 44556 Magdeburg
END:VEVENT
END:VCALENDAR
