BEGIN:VCALENDAR
PRODID:Appointment
CALSCALE:GREGORIAN
VERSION:2.0
BEGIN:VEVENT
DTSTAMP:20260421T125525Z
DTSTART:20250515T150000
DTEND:20250515T180000
SUMMARY:Außerbetriebliche Gewerkschaftsarbeit AGA
UID:981f6769-dada-4534-90d4-8458441a295b
LOCATION:Bürgerhaus Heeren-Werve\, Heerener Str. 197\, 59174 Kamen
END:VEVENT
END:VCALENDAR
